Package: BumpyMatrix Version: 1.17.0 Command: /home/biocbuild/bbs-3.22-bioc/R/bin/R CMD check --install=check:BumpyMatrix.install-out.txt --library=/home/biocbuild/bbs-3.22-bioc/R/site-library --timings BumpyMatrix_1.17.0.tar.gz StartedAt: 2025-10-24 21:47:55 -0400 (Fri, 24 Oct 2025) EndedAt: 2025-10-24 21:49:29 -0400 (Fri, 24 Oct 2025) EllapsedTime: 94.1 seconds RetCode: 0 Status: OK CheckDir: BumpyMatrix.Rcheck Warnings: 0