Package: BumpyMatrix Version: 1.17.0 Command: /Library/Frameworks/R.framework/Resources/bin/R CMD INSTALL BumpyMatrix StartedAt: 2025-10-24 15:10:20 -0400 (Fri, 24 Oct 2025) EndedAt: 2025-10-24 15:10:26 -0400 (Fri, 24 Oct 2025) EllapsedTime: 6.1 seconds RetCode: 0 Status: OK