Package: BumpyMatrix Version: 1.17.0 Command: rm -rf BumpyMatrix.buildbin-libdir && mkdir BumpyMatrix.buildbin-libdir && /Users/biocbuild/BBS/utils/build-universal.sh BumpyMatrix_1.17.0.tar.gz /Library/Frameworks/R.framework/Resources/bin/R BumpyMatrix.buildbin-libdir StartedAt: 2025-10-24 22:56:15 -0400 (Fri, 24 Oct 2025) EndedAt: 2025-10-24 22:56:21 -0400 (Fri, 24 Oct 2025) EllapsedTime: 6.1 seconds RetCode: 0 Status: OK PackageFile: BumpyMatrix_1.17.0.tgz PackageFileSize: 1.031 MiB