Package: BulkSignalR Version: 1.1.5 Command: /home/biocbuild/bbs-3.22-bioc/R/bin/R CMD build --keep-empty-dirs --no-resave-data --md5 BulkSignalR StartedAt: 2025-10-27 16:36:45 -0400 (Mon, 27 Oct 2025) EndedAt: 2025-10-27 16:40:38 -0400 (Mon, 27 Oct 2025) EllapsedTime: 233.2 seconds RetCode: 0 Status: OK PackageFile: BulkSignalR_1.1.5.tar.gz PackageFileSize: 2.986 MiB