Package: BulkSignalR Version: 1.1.5 Command: /Library/Frameworks/R.framework/Resources/bin/R CMD INSTALL BulkSignalR StartedAt: 2025-10-24 15:57:44 -0400 (Fri, 24 Oct 2025) EndedAt: 2025-10-24 15:58:50 -0400 (Fri, 24 Oct 2025) EllapsedTime: 66.2 seconds RetCode: 0 Status: OK