Package: BulkSignalR Version: 1.1.5 Command: rm -rf BulkSignalR.buildbin-libdir && mkdir BulkSignalR.buildbin-libdir && /Users/biocbuild/BBS/utils/build-universal.sh BulkSignalR_1.1.5.tar.gz /Library/Frameworks/R.framework/Resources/bin/R BulkSignalR.buildbin-libdir StartedAt: 2025-10-25 01:30:50 -0400 (Sat, 25 Oct 2025) EndedAt: 2025-10-25 01:32:07 -0400 (Sat, 25 Oct 2025) EllapsedTime: 77.2 seconds RetCode: 0 Status: OK PackageFile: BulkSignalR_1.1.5.tgz PackageFileSize: 4.008 MiB