Package: BulkSignalR Version: 1.2.0 Maintainer: Jean-Philippe Villemin MaintainerEmail: jpvillemin at gmail.com git_url: https://git.bioconductor.org/packages/BulkSignalR git_branch: RELEASE_3_22 git_last_commit: 4e95251 git_last_commit_date: 2025-10-29 11:33:26 -0400 (Wed, 29 Oct 2025)