Package: BufferedMatrixMethods Version: 1.73.0 Command: /home/biocbuild/bbs-3.22-bioc/R/bin/R CMD check --install=check:BufferedMatrixMethods.install-out.txt --library=/home/biocbuild/bbs-3.22-bioc/R/site-library --timings BufferedMatrixMethods_1.73.0.tar.gz StartedAt: 2025-10-24 21:47:31 -0400 (Fri, 24 Oct 2025) EndedAt: 2025-10-24 21:47:46 -0400 (Fri, 24 Oct 2025) EllapsedTime: 15.0 seconds RetCode: 0 Status: OK CheckDir: BufferedMatrixMethods.Rcheck Warnings: 0