Package: BufferedMatrixMethods Version: 1.73.0 Command: /Library/Frameworks/R.framework/Resources/bin/R CMD INSTALL BufferedMatrixMethods StartedAt: 2025-10-24 15:12:52 -0400 (Fri, 24 Oct 2025) EndedAt: 2025-10-24 15:13:39 -0400 (Fri, 24 Oct 2025) EllapsedTime: 46.9 seconds RetCode: 0 Status: OK