Package: BufferedMatrixMethods Version: 1.73.0 Command: rm -rf BufferedMatrixMethods.buildbin-libdir && mkdir BufferedMatrixMethods.buildbin-libdir && /Users/biocbuild/BBS/utils/build-universal.sh BufferedMatrixMethods_1.73.0.tar.gz /Library/Frameworks/R.framework/Resources/bin/R BufferedMatrixMethods.buildbin-libdir StartedAt: 2025-10-25 01:30:49 -0400 (Sat, 25 Oct 2025) EndedAt: 2025-10-25 01:30:57 -0400 (Sat, 25 Oct 2025) EllapsedTime: 8.2 seconds RetCode: 0 Status: OK PackageFile: BufferedMatrixMethods_1.73.0.tgz PackageFileSize: 53.41 KiB