Package: BufferedMatrixMethods Version: 1.73.0 Command: /Library/Frameworks/R.framework/Resources/bin/R CMD INSTALL BufferedMatrixMethods StartedAt: 2025-10-24 15:04:11 -0400 (Fri, 24 Oct 2025) EndedAt: 2025-10-24 15:04:16 -0400 (Fri, 24 Oct 2025) EllapsedTime: 4.8 seconds RetCode: 0 Status: OK