Package: BufferedMatrixMethods Version: 1.73.0 Command: /Library/Frameworks/R.framework/Resources/bin/R CMD check --install=check:BufferedMatrixMethods.install-out.txt --library=/Library/Frameworks/R.framework/Resources/library --no-vignettes --timings BufferedMatrixMethods_1.73.0.tar.gz StartedAt: 2025-10-24 18:47:32 -0400 (Fri, 24 Oct 2025) EndedAt: 2025-10-24 18:47:42 -0400 (Fri, 24 Oct 2025) EllapsedTime: 10.1 seconds RetCode: 0 Status: OK CheckDir: BufferedMatrixMethods.Rcheck Warnings: 0