Package: BufferedMatrix Version: 1.74.0 Command: /home/biocbuild/R/R/bin/R CMD INSTALL BufferedMatrix StartedAt: 2025-11-24 21:02:41 -0000 (Mon, 24 Nov 2025) EndedAt: 2025-11-24 21:02:57 -0000 (Mon, 24 Nov 2025) EllapsedTime: 16.6 seconds RetCode: 0 Status: OK