Package: BufferedMatrix Version: 1.74.0 Command: /home/biocbuild/R/R/bin/R CMD build --keep-empty-dirs --no-resave-data BufferedMatrix StartedAt: 2025-11-25 00:11:37 -0000 (Tue, 25 Nov 2025) EndedAt: 2025-11-25 00:11:49 -0000 (Tue, 25 Nov 2025) EllapsedTime: 12.0 seconds RetCode: 0 Status: OK PackageFile: BufferedMatrix_1.74.0.tar.gz PackageFileSize: 622.7 KiB