Package: BufferedMatrix Version: 1.73.0 Command: /Library/Frameworks/R.framework/Resources/bin/R CMD build --keep-empty-dirs --no-resave-data BufferedMatrix StartedAt: 2025-10-24 16:23:11 -0400 (Fri, 24 Oct 2025) EndedAt: 2025-10-24 16:23:27 -0400 (Fri, 24 Oct 2025) EllapsedTime: 16.0 seconds RetCode: 0 Status: OK PackageFile: BufferedMatrix_1.73.0.tar.gz PackageFileSize: 628.5 KiB