Package: BufferedMatrix Version: 1.73.0 Command: /Library/Frameworks/R.framework/Resources/bin/R CMD INSTALL BufferedMatrix StartedAt: 2025-10-24 15:04:05 -0400 (Fri, 24 Oct 2025) EndedAt: 2025-10-24 15:04:09 -0400 (Fri, 24 Oct 2025) EllapsedTime: 3.3 seconds RetCode: 0 Status: OK