Package: BufferedMatrix Version: 1.73.0 Command: rm -rf BufferedMatrix.buildbin-libdir && mkdir BufferedMatrix.buildbin-libdir && /Users/biocbuild/BBS/utils/build-universal.sh BufferedMatrix_1.73.0.tar.gz /Library/Frameworks/R.framework/Resources/bin/R BufferedMatrix.buildbin-libdir StartedAt: 2025-10-24 22:56:12 -0400 (Fri, 24 Oct 2025) EndedAt: 2025-10-24 22:56:15 -0400 (Fri, 24 Oct 2025) EllapsedTime: 3.1 seconds RetCode: 0 Status: OK PackageFile: BufferedMatrix_1.73.0.tgz PackageFileSize: 708.5 KiB