Package: BubbleTree Version: 2.39.0 Command: /Library/Frameworks/R.framework/Resources/bin/R CMD INSTALL BubbleTree StartedAt: 2025-10-27 15:37:21 -0400 (Mon, 27 Oct 2025) EndedAt: 2025-10-27 15:38:31 -0400 (Mon, 27 Oct 2025) EllapsedTime: 69.3 seconds RetCode: 0 Status: OK