Package: BubbleTree Version: 2.39.0 Command: /Library/Frameworks/R.framework/Resources/bin/R CMD build --keep-empty-dirs --no-resave-data BubbleTree StartedAt: 2025-10-24 16:23:07 -0400 (Fri, 24 Oct 2025) EndedAt: 2025-10-24 16:24:34 -0400 (Fri, 24 Oct 2025) EllapsedTime: 86.7 seconds RetCode: 1 Status: ERROR PackageFile: None PackageFileSize: NA