Package: BrowserViz Version: 2.31.0 Command: /home/biocbuild/bbs-3.22-bioc/R/bin/R CMD build --keep-empty-dirs --no-resave-data --md5 BrowserViz StartedAt: 2025-10-24 16:44:35 -0400 (Fri, 24 Oct 2025) EndedAt: 2025-10-24 16:44:41 -0400 (Fri, 24 Oct 2025) EllapsedTime: 6.0 seconds RetCode: 0 Status: OK PackageFile: BrowserViz_2.31.0.tar.gz PackageFileSize: 242.5 KiB