Package: BridgeDbR Version: 2.19.3 Command: /home/biocbuild/bbs-3.22-bioc/R/bin/R CMD INSTALL BridgeDbR StartedAt: 2025-10-24 15:13:50 -0400 (Fri, 24 Oct 2025) EndedAt: 2025-10-24 15:14:11 -0400 (Fri, 24 Oct 2025) EllapsedTime: 21.5 seconds RetCode: 0 Status: OK