Package: BridgeDbR Version: 2.20.0 Command: /Library/Frameworks/R.framework/Resources/bin/R CMD INSTALL BridgeDbR StartedAt: 2025-10-31 15:15:02 -0400 (Fri, 31 Oct 2025) EndedAt: 2025-10-31 15:15:39 -0400 (Fri, 31 Oct 2025) EllapsedTime: 37.1 seconds RetCode: 0 Status: OK