Package: BridgeDbR Version: 2.20.0 Command: /Library/Frameworks/R.framework/Resources/bin/R CMD build --keep-empty-dirs --no-resave-data BridgeDbR StartedAt: 2025-10-31 16:23:10 -0400 (Fri, 31 Oct 2025) EndedAt: 2025-10-31 16:23:24 -0400 (Fri, 31 Oct 2025) EllapsedTime: 13.8 seconds RetCode: 0 Status: OK PackageFile: BridgeDbR_2.20.0.tar.gz PackageFileSize: 5.029 MiB