Package: BridgeDbR Version: 2.20.0 Command: rm -rf BridgeDbR.buildbin-libdir && mkdir BridgeDbR.buildbin-libdir && /Users/biocbuild/BBS/utils/build-universal.sh BridgeDbR_2.20.0.tar.gz /Library/Frameworks/R.framework/Resources/bin/R BridgeDbR.buildbin-libdir StartedAt: 2025-11-03 01:31:06 -0500 (Mon, 03 Nov 2025) EndedAt: 2025-11-03 01:31:13 -0500 (Mon, 03 Nov 2025) EllapsedTime: 6.9 seconds RetCode: 0 Status: OK PackageFile: BridgeDbR_2.20.0.tgz PackageFileSize: 4.928 MiB