Package: BridgeDbR Version: 2.19.3 Command: /Library/Frameworks/R.framework/Resources/bin/R CMD INSTALL BridgeDbR StartedAt: 2025-10-24 15:04:37 -0400 (Fri, 24 Oct 2025) EndedAt: 2025-10-24 15:04:47 -0400 (Fri, 24 Oct 2025) EllapsedTime: 9.8 seconds RetCode: 0 Status: OK