Package: BridgeDbR Version: 2.19.3 Command: /Library/Frameworks/R.framework/Resources/bin/R CMD build --keep-empty-dirs --no-resave-data BridgeDbR StartedAt: 2025-10-24 15:51:32 -0400 (Fri, 24 Oct 2025) EndedAt: 2025-10-24 15:51:36 -0400 (Fri, 24 Oct 2025) EllapsedTime: 4.1 seconds RetCode: 0 Status: OK PackageFile: BridgeDbR_2.19.3.tar.gz PackageFileSize: 5.03 MiB