Package: BreastSubtypeR Version: 1.2.0 Maintainer: Qiao Yang MaintainerEmail: yq.kiuo at gmail.com git_url: https://git.bioconductor.org/packages/BreastSubtypeR git_branch: RELEASE_3_22 git_last_commit: f1af123 git_last_commit_date: 2025-10-29 11:36:09 -0500 (Wed, 29 Oct 2025)