Package: BloodGen3Module Version: 1.17.0 Command: /home/biocbuild/R/R/bin/R CMD INSTALL BloodGen3Module StartedAt: 2025-10-23 20:47:50 -0000 (Thu, 23 Oct 2025) EndedAt: 2025-10-23 20:48:34 -0000 (Thu, 23 Oct 2025) EllapsedTime: 43.6 seconds RetCode: 0 Status: OK