Package: BloodGen3Module Version: 1.17.0 Command: /Library/Frameworks/R.framework/Resources/bin/R CMD INSTALL BloodGen3Module StartedAt: 2025-10-26 15:14:03 -0400 (Sun, 26 Oct 2025) EndedAt: 2025-10-26 15:14:16 -0400 (Sun, 26 Oct 2025) EllapsedTime: 13.1 seconds RetCode: 0 Status: OK