Package: BloodGen3Module Version: 1.17.0 Command: /Library/Frameworks/R.framework/Resources/bin/R CMD build --keep-empty-dirs --no-resave-data BloodGen3Module StartedAt: 2025-10-26 15:47:45 -0400 (Sun, 26 Oct 2025) EndedAt: 2025-10-26 15:48:15 -0400 (Sun, 26 Oct 2025) EllapsedTime: 29.3 seconds RetCode: 0 Status: OK PackageFile: BloodGen3Module_1.17.0.tar.gz PackageFileSize: 178.7 KiB