Package: BloodGen3Module Version: 1.17.0 Command: rm -rf BloodGen3Module.buildbin-libdir && mkdir BloodGen3Module.buildbin-libdir && /Users/biocbuild/BBS/utils/build-universal.sh BloodGen3Module_1.17.0.tar.gz /Library/Frameworks/R.framework/Resources/bin/R BloodGen3Module.buildbin-libdir StartedAt: 2025-10-26 22:30:36 -0400 (Sun, 26 Oct 2025) EndedAt: 2025-10-26 22:30:50 -0400 (Sun, 26 Oct 2025) EllapsedTime: 14.3 seconds RetCode: 0 Status: OK PackageFile: BloodGen3Module_1.17.0.tgz PackageFileSize: 241.5 KiB