Package: BiocWorkflowTools Version: 1.35.0 Command: /home/biocbuild/bbs-3.22-bioc/R/bin/R CMD check --install=check:BiocWorkflowTools.install-out.txt --library=/home/biocbuild/bbs-3.22-bioc/R/site-library --timings BiocWorkflowTools_1.35.0.tar.gz StartedAt: 2025-10-24 21:38:11 -0400 (Fri, 24 Oct 2025) EndedAt: 2025-10-24 21:38:36 -0400 (Fri, 24 Oct 2025) EllapsedTime: 25.1 seconds RetCode: 0 Status: OK CheckDir: BiocWorkflowTools.Rcheck Warnings: 0