Package: BiocWorkflowTools Version: 1.35.0 Command: /Library/Frameworks/R.framework/Resources/bin/R CMD INSTALL BiocWorkflowTools StartedAt: 2025-10-24 15:21:23 -0400 (Fri, 24 Oct 2025) EndedAt: 2025-10-24 15:21:44 -0400 (Fri, 24 Oct 2025) EllapsedTime: 20.9 seconds RetCode: 0 Status: OK