Package: BiocWorkflowTools Version: 1.35.0 Command: /Library/Frameworks/R.framework/Resources/bin/R CMD INSTALL BiocWorkflowTools StartedAt: 2025-10-24 15:09:09 -0400 (Fri, 24 Oct 2025) EndedAt: 2025-10-24 15:09:13 -0400 (Fri, 24 Oct 2025) EllapsedTime: 4.2 seconds RetCode: 0 Status: OK