Package: BiocWorkflowTools Version: 1.35.0 Command: /Library/Frameworks/R.framework/Resources/bin/R CMD build --keep-empty-dirs --no-resave-data BiocWorkflowTools StartedAt: 2025-10-24 15:48:59 -0400 (Fri, 24 Oct 2025) EndedAt: 2025-10-24 15:49:02 -0400 (Fri, 24 Oct 2025) EllapsedTime: 3.0 seconds RetCode: 0 Status: OK PackageFile: BiocWorkflowTools_1.35.0.tar.gz PackageFileSize: 975 KiB