Package: BiocWorkflowTools Version: 1.35.0 Command: rm -rf BiocWorkflowTools.buildbin-libdir && mkdir BiocWorkflowTools.buildbin-libdir && /Users/biocbuild/BBS/utils/build-universal.sh BiocWorkflowTools_1.35.0.tar.gz /Library/Frameworks/R.framework/Resources/bin/R BiocWorkflowTools.buildbin-libdir StartedAt: 2025-10-24 22:55:40 -0400 (Fri, 24 Oct 2025) EndedAt: 2025-10-24 22:55:43 -0400 (Fri, 24 Oct 2025) EllapsedTime: 3.1 seconds RetCode: 0 Status: OK PackageFile: BiocWorkflowTools_1.35.0.tgz PackageFileSize: 688.5 KiB