Package: BiocVersion Version: 3.22.0 Command: /Library/Frameworks/R.framework/Resources/bin/R CMD INSTALL BiocVersion StartedAt: 2025-11-03 15:11:00 -0500 (Mon, 03 Nov 2025) EndedAt: 2025-11-03 15:11:41 -0500 (Mon, 03 Nov 2025) EllapsedTime: 41.3 seconds RetCode: 0 Status: OK