Package: BiocVersion Version: 3.22.0 Command: /Library/Frameworks/R.framework/Resources/bin/R CMD build --keep-empty-dirs --no-resave-data BiocVersion StartedAt: 2025-11-02 16:18:58 -0500 (Sun, 02 Nov 2025) EndedAt: 2025-11-02 16:18:59 -0500 (Sun, 02 Nov 2025) EllapsedTime: 1.2 seconds RetCode: 0 Status: OK PackageFile: BiocVersion_3.22.0.tar.gz PackageFileSize: 1004 bytes