Package: BiocVersion Version: 3.22.0 Command: rm -rf BiocVersion.buildbin-libdir && mkdir BiocVersion.buildbin-libdir && /Users/biocbuild/BBS/utils/build-universal.sh BiocVersion_3.22.0.tar.gz /Library/Frameworks/R.framework/Resources/bin/R BiocVersion.buildbin-libdir StartedAt: 2025-11-01 01:24:07 -0400 (Sat, 01 Nov 2025) EndedAt: 2025-11-01 01:24:12 -0400 (Sat, 01 Nov 2025) EllapsedTime: 4.8 seconds RetCode: 0 Status: OK PackageFile: BiocVersion_3.22.0.tgz PackageFileSize: 5.686 KiB