Package: BiocVersion Version: 3.22.0 Command: /Library/Frameworks/R.framework/Resources/bin/R CMD build --keep-empty-dirs --no-resave-data BiocVersion StartedAt: 2025-10-24 15:48:56 -0400 (Fri, 24 Oct 2025) EndedAt: 2025-10-24 15:48:57 -0400 (Fri, 24 Oct 2025) EllapsedTime: 1.0 seconds RetCode: 0 Status: OK PackageFile: BiocVersion_3.22.0.tar.gz PackageFileSize: 1000 bytes