Package: BiocStyle Version: 2.37.1 Command: /home/biocbuild/bbs-3.22-bioc/R/bin/R CMD INSTALL BiocStyle StartedAt: 2025-10-24 15:17:32 -0400 (Fri, 24 Oct 2025) EndedAt: 2025-10-24 15:18:13 -0400 (Fri, 24 Oct 2025) EllapsedTime: 41.1 seconds RetCode: 0 Status: OK