Package: BiocStyle Version: 2.37.1 Command: /home/biocbuild/bbs-3.22-bioc/R/bin/R CMD build --keep-empty-dirs --no-resave-data --md5 BiocStyle StartedAt: 2025-10-24 16:39:45 -0400 (Fri, 24 Oct 2025) EndedAt: 2025-10-24 16:39:56 -0400 (Fri, 24 Oct 2025) EllapsedTime: 11.0 seconds RetCode: 0 Status: OK PackageFile: BiocStyle_2.37.1.tar.gz PackageFileSize: 887.4 KiB