Package: BiocSklearn Version: 1.32.0 Command: /Library/Frameworks/R.framework/Resources/bin/R CMD INSTALL BiocSklearn StartedAt: 2025-11-03 15:24:22 -0500 (Mon, 03 Nov 2025) EndedAt: 2025-11-03 15:24:51 -0500 (Mon, 03 Nov 2025) EllapsedTime: 29.3 seconds RetCode: 0 Status: OK