Package: BiocSklearn Version: 1.32.0 Command: /Library/Frameworks/R.framework/Resources/bin/R CMD build --keep-empty-dirs --no-resave-data BiocSklearn StartedAt: 2025-11-03 16:14:34 -0500 (Mon, 03 Nov 2025) EndedAt: 2025-11-03 16:15:21 -0500 (Mon, 03 Nov 2025) EllapsedTime: 46.9 seconds RetCode: 0 Status: OK PackageFile: BiocSklearn_1.32.0.tar.gz PackageFileSize: 32.52 MiB