Package: BiocSingular Version: 1.25.1 Command: /home/biocbuild/bbs-3.22-bioc/R/bin/R CMD INSTALL BiocSingular StartedAt: 2025-10-27 15:56:18 -0400 (Mon, 27 Oct 2025) EndedAt: 2025-10-27 15:56:46 -0400 (Mon, 27 Oct 2025) EllapsedTime: 28.1 seconds RetCode: 0 Status: OK