Package: BiocSingular Version: 1.25.1 Command: /home/biocbuild/bbs-3.22-bioc/R/bin/R CMD build --keep-empty-dirs --no-resave-data --md5 BiocSingular StartedAt: 2025-10-24 16:39:21 -0400 (Fri, 24 Oct 2025) EndedAt: 2025-10-24 16:39:59 -0400 (Fri, 24 Oct 2025) EllapsedTime: 38.1 seconds RetCode: 0 Status: OK PackageFile: BiocSingular_1.25.1.tar.gz PackageFileSize: 603.7 KiB