Package: BiocSet Version: 1.23.0 Command: /home/biocbuild/bbs-3.22-bioc/R/bin/R CMD build --keep-empty-dirs --no-resave-data --md5 BiocSet StartedAt: 2025-10-24 16:39:20 -0400 (Fri, 24 Oct 2025) EndedAt: 2025-10-24 16:41:17 -0400 (Fri, 24 Oct 2025) EllapsedTime: 117.1 seconds RetCode: 0 Status: OK PackageFile: BiocSet_1.23.0.tar.gz PackageFileSize: 362 KiB