Package: BiocSet Version: 1.23.0 Command: rm -rf BiocSet.buildbin-libdir && mkdir BiocSet.buildbin-libdir && /Users/biocbuild/BBS/utils/build-universal.sh BiocSet_1.23.0.tar.gz /Library/Frameworks/R.framework/Resources/bin/R BiocSet.buildbin-libdir StartedAt: 2025-10-24 22:55:35 -0400 (Fri, 24 Oct 2025) EndedAt: 2025-10-24 22:55:42 -0400 (Fri, 24 Oct 2025) EllapsedTime: 7.1 seconds RetCode: 0 Status: OK PackageFile: BiocSet_1.23.0.tgz PackageFileSize: 783.2 KiB