Package: BiocPkgTools Version: 1.27.14 Command: /home/biocbuild/bbs-3.22-bioc/R/bin/R CMD INSTALL BiocPkgTools StartedAt: 2025-10-24 15:24:35 -0400 (Fri, 24 Oct 2025) EndedAt: 2025-10-24 15:24:45 -0400 (Fri, 24 Oct 2025) EllapsedTime: 10.3 seconds RetCode: 0 Status: OK