Package: BiocPkgTools Version: 1.27.14 Command: /Library/Frameworks/R.framework/Resources/bin/R CMD build --keep-empty-dirs --no-resave-data BiocPkgTools StartedAt: 2025-10-24 15:48:37 -0400 (Fri, 24 Oct 2025) EndedAt: 2025-10-24 15:49:11 -0400 (Fri, 24 Oct 2025) EllapsedTime: 34.4 seconds RetCode: 1 Status: ERROR PackageFile: None PackageFileSize: NA